Package: BaseSpaceR Version: 1.51.0 Command: /Library/Frameworks/R.framework/Resources/bin/R CMD INSTALL BaseSpaceR StartedAt: 2025-02-09 15:02:11 -0500 (Sun, 09 Feb 2025) EndedAt: 2025-02-09 15:02:13 -0500 (Sun, 09 Feb 2025) EllapsedTime: 2.2 seconds RetCode: 0 Status: OK