Package: BaseSpaceR Version: 1.51.0 Command: /home/biocbuild/R/R/bin/R CMD build --keep-empty-dirs --no-resave-data BaseSpaceR StartedAt: 2025-01-29 20:59:13 -0000 (Wed, 29 Jan 2025) EndedAt: 2025-01-29 20:59:41 -0000 (Wed, 29 Jan 2025) EllapsedTime: 28.0 seconds RetCode: 0 Status: OK PackageFile: BaseSpaceR_1.51.0.tar.gz PackageFileSize: 586 KiB