Package: BaseSpaceR Version: 1.51.0 Command: rm -rf BaseSpaceR.buildbin-libdir && mkdir BaseSpaceR.buildbin-libdir && /Users/biocbuild/BBS/utils/build-universal.sh BaseSpaceR_1.51.0.tar.gz /Library/Frameworks/R.framework/Resources/bin/R BaseSpaceR.buildbin-libdir StartedAt: 2025-02-10 00:42:37 -0500 (Mon, 10 Feb 2025) EndedAt: 2025-02-10 00:42:48 -0500 (Mon, 10 Feb 2025) EllapsedTime: 10.4 seconds RetCode: 0 Status: OK PackageFile: BaseSpaceR_1.51.0.tgz PackageFileSize: 749.9 KiB