Package: BaseSpaceR Version: 1.51.0 Command: /Library/Frameworks/R.framework/Resources/bin/R CMD build --keep-empty-dirs --no-resave-data BaseSpaceR StartedAt: 2025-02-09 15:57:24 -0500 (Sun, 09 Feb 2025) EndedAt: 2025-02-09 15:57:49 -0500 (Sun, 09 Feb 2025) EllapsedTime: 25.2 seconds RetCode: 0 Status: OK PackageFile: BaseSpaceR_1.51.0.tar.gz PackageFileSize: 581.4 KiB