Package: BaseSpaceR Version: 1.51.0 Command: /home/biocbuild/bbs-3.21-bioc/R/bin/R CMD build --keep-empty-dirs --no-resave-data BaseSpaceR StartedAt: 2025-02-09 16:13:48 -0500 (Sun, 09 Feb 2025) EndedAt: 2025-02-09 16:14:02 -0500 (Sun, 09 Feb 2025) EllapsedTime: 14.0 seconds RetCode: 0 Status: OK PackageFile: BaseSpaceR_1.51.0.tar.gz PackageFileSize: 580.8 KiB