Package: BaseSpaceR Version: 1.51.0 Command: /home/biocbuild/bbs-3.21-bioc/R/bin/R CMD check --install=check:BaseSpaceR.install-out.txt --library=/home/biocbuild/bbs-3.21-bioc/R/site-library --timings BaseSpaceR_1.51.0.tar.gz StartedAt: 2025-02-09 20:10:41 -0500 (Sun, 09 Feb 2025) EndedAt: 2025-02-09 20:11:25 -0500 (Sun, 09 Feb 2025) EllapsedTime: 44.1 seconds RetCode: 0 Status: WARNINGS CheckDir: BaseSpaceR.Rcheck Warnings: 1