Package: BaseSpaceR Version: 1.51.0 Command: rm -rf BaseSpaceR.buildbin-libdir && mkdir BaseSpaceR.buildbin-libdir && E:\biocbuild\bbs-3.21-bioc\R\bin\R.exe CMD INSTALL --build --library=BaseSpaceR.buildbin-libdir BaseSpaceR_1.51.0.tar.gz StartedAt: 2025-02-10 07:15:16 -0500 (Mon, 10 Feb 2025) EndedAt: 2025-02-10 07:16:28 -0500 (Mon, 10 Feb 2025) EllapsedTime: 72.0 seconds RetCode: 0 Status: OK PackageFile: BaseSpaceR_1.51.0.zip PackageFileSize: 593.9 KiB