Package: BaseSpaceR Version: 1.51.0 Command: chmod a+r BaseSpaceR -R && E:\biocbuild\bbs-3.21-bioc\R\bin\R.exe CMD build --keep-empty-dirs --no-resave-data BaseSpaceR StartedAt: 2025-02-09 17:20:28 -0500 (Sun, 09 Feb 2025) EndedAt: 2025-02-09 17:21:16 -0500 (Sun, 09 Feb 2025) EllapsedTime: 47.6 seconds RetCode: 0 Status: OK PackageFile: BaseSpaceR_1.51.0.tar.gz PackageFileSize: 426.5 KiB