Package: BaseSpaceR Version: 1.51.0 Command: E:\biocbuild\bbs-3.21-bioc\R\bin\R.exe CMD check --no-multiarch --install=check:BaseSpaceR.install-out.txt --library=E:\biocbuild\bbs-3.21-bioc\R\library --no-vignettes --timings BaseSpaceR_1.51.0.tar.gz StartedAt: 2025-02-09 22:46:33 -0500 (Sun, 09 Feb 2025) EndedAt: 2025-02-09 22:47:26 -0500 (Sun, 09 Feb 2025) EllapsedTime: 52.9 seconds RetCode: 0 Status: WARNINGS CheckDir: BaseSpaceR.Rcheck Warnings: 1