Package: BaseSpaceR Version: 1.51.0 Command: E:\biocbuild\bbs-3.21-bioc\R\bin\R.exe CMD INSTALL BaseSpaceR StartedAt: 2025-02-09 15:21:55 -0500 (Sun, 09 Feb 2025) EndedAt: 2025-02-09 15:23:06 -0500 (Sun, 09 Feb 2025) EllapsedTime: 71.4 seconds RetCode: 0 Status: OK