Package: BasicSTARRseq Version: 1.35.0 Command: /Library/Frameworks/R.framework/Resources/bin/R CMD build --keep-empty-dirs --no-resave-data BasicSTARRseq StartedAt: 2025-02-04 15:55:41 -0500 (Tue, 04 Feb 2025) EndedAt: 2025-02-04 15:56:22 -0500 (Tue, 04 Feb 2025) EllapsedTime: 41.1 seconds RetCode: 0 Status: OK PackageFile: BasicSTARRseq_1.35.0.tar.gz PackageFileSize: 551.8 KiB