Package: BasicSTARRseq Version: 1.35.0 Command: /home/biocbuild/bbs-3.21-bioc/R/bin/R CMD INSTALL BasicSTARRseq StartedAt: 2025-02-09 15:24:49 -0500 (Sun, 09 Feb 2025) EndedAt: 2025-02-09 15:25:15 -0500 (Sun, 09 Feb 2025) EllapsedTime: 26.0 seconds RetCode: 0 Status: OK