Package: BasicSTARRseq Version: 1.35.0 Command: rm -rf BasicSTARRseq.buildbin-libdir && mkdir BasicSTARRseq.buildbin-libdir && E:\biocbuild\bbs-3.21-bioc\R\bin\R.exe CMD INSTALL --build --library=BasicSTARRseq.buildbin-libdir BasicSTARRseq_1.35.0.tar.gz StartedAt: 2025-02-10 07:15:29 -0500 (Mon, 10 Feb 2025) EndedAt: 2025-02-10 07:16:20 -0500 (Mon, 10 Feb 2025) EllapsedTime: 50.8 seconds RetCode: 0 Status: OK PackageFile: BasicSTARRseq_1.35.0.zip PackageFileSize: 652.5 KiB