Package: BasicSTARRseq Version: 1.35.0 Command: chmod a+r BasicSTARRseq -R && E:\biocbuild\bbs-3.21-bioc\R\bin\R.exe CMD build --keep-empty-dirs --no-resave-data BasicSTARRseq StartedAt: 2025-02-09 17:20:37 -0500 (Sun, 09 Feb 2025) EndedAt: 2025-02-09 17:21:35 -0500 (Sun, 09 Feb 2025) EllapsedTime: 57.2 seconds RetCode: 0 Status: OK PackageFile: BasicSTARRseq_1.35.0.tar.gz PackageFileSize: 392.5 KiB