Package: BasicSTARRseq Version: 1.35.0 Command: E:\biocbuild\bbs-3.21-bioc\R\bin\R.exe CMD INSTALL BasicSTARRseq StartedAt: 2025-02-03 16:25:18 -0500 (Mon, 03 Feb 2025) EndedAt: 2025-02-03 16:26:09 -0500 (Mon, 03 Feb 2025) EllapsedTime: 50.3 seconds RetCode: 0 Status: OK