Package: BatchQC Version: 2.3.0 Command: rm -rf BatchQC.buildbin-libdir && mkdir BatchQC.buildbin-libdir && /Users/biocbuild/BBS/utils/build-universal.sh BatchQC_2.3.0.tar.gz /Library/Frameworks/R.framework/Resources/bin/R BatchQC.buildbin-libdir StartedAt: 2025-02-12 22:11:40 -0500 (Wed, 12 Feb 2025) EndedAt: 2025-02-12 22:11:57 -0500 (Wed, 12 Feb 2025) EllapsedTime: 16.3 seconds RetCode: 0 Status: OK PackageFile: BatchQC_2.3.0.tgz PackageFileSize: 3.695 MiB