Package: BatchQC Version: 2.3.0 Command: /Library/Frameworks/R.framework/Resources/bin/R CMD INSTALL BatchQC StartedAt: 2025-02-12 15:25:24 -0500 (Wed, 12 Feb 2025) EndedAt: 2025-02-12 15:25:38 -0500 (Wed, 12 Feb 2025) EllapsedTime: 14.6 seconds RetCode: 0 Status: OK