Package: BatchQC Version: 2.3.0 Command: /home/biocbuild/R/R/bin/R CMD build --keep-empty-dirs --no-resave-data BatchQC StartedAt: 2025-01-29 21:01:09 -0000 (Wed, 29 Jan 2025) EndedAt: 2025-01-29 21:02:45 -0000 (Wed, 29 Jan 2025) EllapsedTime: 96.0 seconds RetCode: 0 Status: OK PackageFile: BatchQC_2.3.0.tar.gz PackageFileSize: 3.515 MiB