Package: BatchQC Version: 2.3.0 Command: rm -rf BatchQC.buildbin-libdir && mkdir BatchQC.buildbin-libdir && /Users/biocbuild/BBS/utils/build-universal.sh BatchQC_2.3.0.tar.gz /Library/Frameworks/R.framework/Resources/bin/R BatchQC.buildbin-libdir StartedAt: 2025-02-13 00:26:08 -0500 (Thu, 13 Feb 2025) EndedAt: 2025-02-13 00:27:00 -0500 (Thu, 13 Feb 2025) EllapsedTime: 51.8 seconds RetCode: 0 Status: OK PackageFile: BatchQC_2.3.0.tgz PackageFileSize: 3.692 MiB