Package: BatchQC Version: 2.3.0 Command: /Library/Frameworks/R.framework/Resources/bin/R CMD build --keep-empty-dirs --no-resave-data BatchQC StartedAt: 2025-02-12 15:56:37 -0500 (Wed, 12 Feb 2025) EndedAt: 2025-02-12 15:57:52 -0500 (Wed, 12 Feb 2025) EllapsedTime: 75.3 seconds RetCode: 0 Status: OK PackageFile: BatchQC_2.3.0.tar.gz PackageFileSize: 3.589 MiB