Package: BatchQC Version: 2.3.0 Command: /home/biocbuild/bbs-3.21-bioc/R/bin/R CMD INSTALL BatchQC StartedAt: 2025-02-09 15:52:43 -0500 (Sun, 09 Feb 2025) EndedAt: 2025-02-09 15:53:18 -0500 (Sun, 09 Feb 2025) EllapsedTime: 34.7 seconds RetCode: 0 Status: OK