Package: BatchQC Version: 2.3.0 Command: chmod a+r BatchQC -R && E:\biocbuild\bbs-3.21-bioc\R\bin\R.exe CMD build --keep-empty-dirs --no-resave-data BatchQC StartedAt: 2025-02-12 17:22:54 -0500 (Wed, 12 Feb 2025) EndedAt: 2025-02-12 17:24:33 -0500 (Wed, 12 Feb 2025) EllapsedTime: 99.6 seconds RetCode: 0 Status: OK PackageFile: BatchQC_2.3.0.tar.gz PackageFileSize: 2.766 MiB