Package: BatchQC Version: 2.3.0 Command: E:\biocbuild\bbs-3.21-bioc\R\bin\R.exe CMD INSTALL BatchQC StartedAt: 2025-02-09 16:26:17 -0500 (Sun, 09 Feb 2025) EndedAt: 2025-02-09 16:27:07 -0500 (Sun, 09 Feb 2025) EllapsedTime: 49.6 seconds RetCode: 0 Status: OK