Package: BayesSpace Version: 1.17.0 Command: /home/biocbuild/R/R/bin/R CMD build --keep-empty-dirs --no-resave-data BayesSpace StartedAt: 2025-01-29 21:02:06 -0000 (Wed, 29 Jan 2025) EndedAt: 2025-01-29 21:05:12 -0000 (Wed, 29 Jan 2025) EllapsedTime: 186.0 seconds RetCode: 0 Status: OK PackageFile: BayesSpace_1.17.0.tar.gz PackageFileSize: 978.9 KiB