Package: BayesSpace Version: 1.17.0 Command: /home/biocbuild/R/R/bin/R CMD check --install=check:BayesSpace.install-out.txt --library=/home/biocbuild/R/R/site-library --no-vignettes --timings BayesSpace_1.17.0.tar.gz StartedAt: 2025-01-28 03:43:08 -0000 (Tue, 28 Jan 2025) EndedAt: 2025-01-28 03:49:04 -0000 (Tue, 28 Jan 2025) EllapsedTime: 356.4 seconds RetCode: 0 Status: OK CheckDir: BayesSpace.Rcheck Warnings: 0