Package: BayesSpace Version: 1.17.0 Command: /home/biocbuild/R/R/bin/R CMD INSTALL BayesSpace StartedAt: 2025-01-29 20:35:50 -0000 (Wed, 29 Jan 2025) EndedAt: 2025-01-29 20:37:34 -0000 (Wed, 29 Jan 2025) EllapsedTime: 104.3 seconds RetCode: 0 Status: OK