Package: BayesSpace Version: 1.17.0 Command: rm -rf BayesSpace.buildbin-libdir && mkdir BayesSpace.buildbin-libdir && /Users/biocbuild/BBS/utils/build-universal.sh BayesSpace_1.17.0.tar.gz /Library/Frameworks/R.framework/Resources/bin/R BayesSpace.buildbin-libdir StartedAt: 2025-02-10 00:42:50 -0500 (Mon, 10 Feb 2025) EndedAt: 2025-02-10 00:44:24 -0500 (Mon, 10 Feb 2025) EllapsedTime: 93.8 seconds RetCode: 0 Status: OK PackageFile: BayesSpace_1.17.0.tgz PackageFileSize: 1.964 MiB