Package: BayesSpace Version: 1.17.0 Command: /Library/Frameworks/R.framework/Resources/bin/R CMD check --install=check:BayesSpace.install-out.txt --library=/Library/Frameworks/R.framework/Resources/library --no-vignettes --timings BayesSpace_1.17.0.tar.gz StartedAt: 2025-02-09 19:11:22 -0500 (Sun, 09 Feb 2025) EndedAt: 2025-02-09 19:16:39 -0500 (Sun, 09 Feb 2025) EllapsedTime: 316.8 seconds RetCode: 0 Status: OK CheckDir: BayesSpace.Rcheck Warnings: 0