Package: BayesSpace Version: 1.17.0 Command: /Library/Frameworks/R.framework/Resources/bin/R CMD INSTALL BayesSpace StartedAt: 2025-02-04 15:43:56 -0500 (Tue, 04 Feb 2025) EndedAt: 2025-02-04 15:45:15 -0500 (Tue, 04 Feb 2025) EllapsedTime: 78.5 seconds RetCode: 0 Status: OK