Package: BayesSpace Version: 1.17.0 Command: rm -rf BayesSpace.buildbin-libdir && mkdir BayesSpace.buildbin-libdir && E:\biocbuild\bbs-3.21-bioc\R\bin\R.exe CMD INSTALL --build --library=BayesSpace.buildbin-libdir BayesSpace_1.17.0.tar.gz StartedAt: 2025-02-05 07:28:16 -0500 (Wed, 05 Feb 2025) EndedAt: 2025-02-05 07:29:57 -0500 (Wed, 05 Feb 2025) EllapsedTime: 101.0 seconds RetCode: 0 Status: OK PackageFile: BayesSpace_1.17.0.zip PackageFileSize: 1.668 MiB