Package: BeadDataPackR Version: 1.59.0 Command: /home/biocbuild/R/R/bin/R CMD INSTALL BeadDataPackR StartedAt: 2025-01-29 19:29:54 -0000 (Wed, 29 Jan 2025) EndedAt: 2025-01-29 19:30:15 -0000 (Wed, 29 Jan 2025) EllapsedTime: 21.1 seconds RetCode: 0 Status: OK