Package: BeadDataPackR Version: 1.59.0 Command: /Library/Frameworks/R.framework/Resources/bin/R CMD INSTALL BeadDataPackR StartedAt: 2025-02-04 15:03:38 -0500 (Tue, 04 Feb 2025) EndedAt: 2025-02-04 15:04:10 -0500 (Tue, 04 Feb 2025) EllapsedTime: 31.8 seconds RetCode: 0 Status: OK