Package: BeadDataPackR Version: 1.59.0 Command: /home/biocbuild/bbs-3.21-bioc/R/bin/R CMD build --keep-empty-dirs --no-resave-data BeadDataPackR StartedAt: 2025-02-09 16:16:58 -0500 (Sun, 09 Feb 2025) EndedAt: 2025-02-09 16:17:05 -0500 (Sun, 09 Feb 2025) EllapsedTime: 7.0 seconds RetCode: 0 Status: OK PackageFile: BeadDataPackR_1.59.0.tar.gz PackageFileSize: 235.8 KiB