Package: BeadDataPackR Version: 1.59.0 Command: chmod a+r BeadDataPackR -R && E:\biocbuild\bbs-3.21-bioc\R\bin\R.exe CMD build --keep-empty-dirs --no-resave-data BeadDataPackR StartedAt: 2025-02-04 17:19:41 -0500 (Tue, 04 Feb 2025) EndedAt: 2025-02-04 17:19:58 -0500 (Tue, 04 Feb 2025) EllapsedTime: 17.0 seconds RetCode: 0 Status: OK PackageFile: BeadDataPackR_1.59.0.tar.gz PackageFileSize: 236.5 KiB