Package: BeadDataPackR Version: 1.59.0 Command: E:\biocbuild\bbs-3.21-bioc\R\bin\R.exe CMD INSTALL BeadDataPackR StartedAt: 2025-02-09 15:19:12 -0500 (Sun, 09 Feb 2025) EndedAt: 2025-02-09 15:19:32 -0500 (Sun, 09 Feb 2025) EllapsedTime: 19.5 seconds RetCode: 0 Status: OK