Package: BgeeCall Version: 1.23.0 Command: rm -rf BgeeCall.buildbin-libdir && mkdir BgeeCall.buildbin-libdir && /Users/biocbuild/BBS/utils/build-universal.sh BgeeCall_1.23.0.tar.gz /Library/Frameworks/R.framework/Resources/bin/R BgeeCall.buildbin-libdir StartedAt: 2025-02-09 22:07:01 -0500 (Sun, 09 Feb 2025) EndedAt: 2025-02-09 22:07:18 -0500 (Sun, 09 Feb 2025) EllapsedTime: 17.3 seconds RetCode: 0 Status: OK PackageFile: BgeeCall_1.23.0.tgz PackageFileSize: 5.954 MiB