Package: BgeeCall Version: 1.23.0 Command: /Library/Frameworks/R.framework/Resources/bin/R CMD build --keep-empty-dirs --no-resave-data BgeeCall StartedAt: 2025-02-09 15:39:09 -0500 (Sun, 09 Feb 2025) EndedAt: 2025-02-09 15:39:49 -0500 (Sun, 09 Feb 2025) EllapsedTime: 39.4 seconds RetCode: 0 Status: OK PackageFile: BgeeCall_1.23.0.tar.gz PackageFileSize: 5.665 MiB