Package: BgeeCall Version: 1.23.0 Command: /home/biocbuild/R/R/bin/R CMD build --keep-empty-dirs --no-resave-data BgeeCall StartedAt: 2025-01-29 21:08:08 -0000 (Wed, 29 Jan 2025) EndedAt: 2025-01-29 21:10:43 -0000 (Wed, 29 Jan 2025) EllapsedTime: 155.0 seconds RetCode: 0 Status: OK PackageFile: BgeeCall_1.23.0.tar.gz PackageFileSize: 5.666 MiB