Package: BgeeCall Version: 1.23.0 Command: /Library/Frameworks/R.framework/Resources/bin/R CMD build --keep-empty-dirs --no-resave-data BgeeCall StartedAt: 2025-02-09 16:00:05 -0500 (Sun, 09 Feb 2025) EndedAt: 2025-02-09 16:01:53 -0500 (Sun, 09 Feb 2025) EllapsedTime: 107.2 seconds RetCode: 0 Status: OK PackageFile: BgeeCall_1.23.0.tar.gz PackageFileSize: 5.665 MiB