Package: BgeeCall Version: 1.23.0 Command: /Library/Frameworks/R.framework/Resources/bin/R CMD INSTALL BgeeCall StartedAt: 2025-02-09 15:20:42 -0500 (Sun, 09 Feb 2025) EndedAt: 2025-02-09 15:21:32 -0500 (Sun, 09 Feb 2025) EllapsedTime: 50.5 seconds RetCode: 0 Status: OK