Package: BgeeCall Version: 1.23.0 Command: /home/biocbuild/bbs-3.21-bioc/R/bin/R CMD build --keep-empty-dirs --no-resave-data BgeeCall StartedAt: 2025-02-09 16:18:45 -0500 (Sun, 09 Feb 2025) EndedAt: 2025-02-09 16:20:10 -0500 (Sun, 09 Feb 2025) EllapsedTime: 85.1 seconds RetCode: 0 Status: OK PackageFile: BgeeCall_1.23.0.tar.gz PackageFileSize: 5.665 MiB