Package: BgeeCall Version: 1.23.0 Command: /home/biocbuild/bbs-3.21-bioc/R/bin/R CMD check --install=check:BgeeCall.install-out.txt --library=/home/biocbuild/bbs-3.21-bioc/R/site-library --timings BgeeCall_1.23.0.tar.gz StartedAt: 2025-02-09 20:18:54 -0500 (Sun, 09 Feb 2025) EndedAt: 2025-02-09 20:24:48 -0500 (Sun, 09 Feb 2025) EllapsedTime: 354.5 seconds RetCode: 0 Status: OK CheckDir: BgeeCall.Rcheck Warnings: 0