Package: BgeeCall Version: 1.23.0 Command: rm -rf BgeeCall.buildbin-libdir && mkdir BgeeCall.buildbin-libdir && E:\biocbuild\bbs-3.21-bioc\R\bin\R.exe CMD INSTALL --build --library=BgeeCall.buildbin-libdir BgeeCall_1.23.0.tar.gz StartedAt: 2025-02-10 07:16:45 -0500 (Mon, 10 Feb 2025) EndedAt: 2025-02-10 07:18:07 -0500 (Mon, 10 Feb 2025) EllapsedTime: 81.6 seconds RetCode: 0 Status: OK PackageFile: BgeeCall_1.23.0.zip PackageFileSize: 5.937 MiB