Package: BiGGR Version: 1.43.0 Maintainer: Anand K. Gavai MaintainerEmail: anand.gavai at bioinformatics.nl git_url: https://git.bioconductor.org/packages/BiGGR git_branch: devel git_last_commit: bac514a git_last_commit_date: 2024-10-29 09:47:52 -0500 (Tue, 29 Oct 2024)