Package: BiGGR Version: 1.43.0 Command: /home/biocbuild/R/R/bin/R CMD INSTALL BiGGR StartedAt: 2025-01-29 19:35:28 -0000 (Wed, 29 Jan 2025) EndedAt: 2025-01-29 19:36:00 -0000 (Wed, 29 Jan 2025) EllapsedTime: 31.7 seconds RetCode: 1 Status: ERROR