Package: BiGGR Version: 1.43.0 Command: /home/biocbuild/bbs-3.21-bioc/R/bin/R CMD check --install=check:BiGGR.install-out.txt --library=/home/biocbuild/bbs-3.21-bioc/R/site-library --timings BiGGR_1.43.0.tar.gz StartedAt: 2025-02-12 20:16:27 -0500 (Wed, 12 Feb 2025) EndedAt: 2025-02-12 20:19:56 -0500 (Wed, 12 Feb 2025) EllapsedTime: 209.5 seconds RetCode: 0 Status: OK CheckDir: BiGGR.Rcheck Warnings: 0