Package: BiGGR Version: 1.43.0 Command: chmod a+r BiGGR -R && E:\biocbuild\bbs-3.21-bioc\R\bin\R.exe CMD build --keep-empty-dirs --no-resave-data BiGGR StartedAt: 2025-02-09 17:25:04 -0500 (Sun, 09 Feb 2025) EndedAt: 2025-02-09 17:25:40 -0500 (Sun, 09 Feb 2025) EllapsedTime: 36.0 seconds RetCode: 0 Status: OK PackageFile: BiGGR_1.43.0.tar.gz PackageFileSize: 4.195 MiB