Package: BiRewire Version: 3.39.0 Command: rm -rf BiRewire.buildbin-libdir && mkdir BiRewire.buildbin-libdir && /Users/biocbuild/BBS/utils/build-universal.sh BiRewire_3.39.0.tar.gz /Library/Frameworks/R.framework/Resources/bin/R BiRewire.buildbin-libdir StartedAt: 2025-02-09 22:07:42 -0500 (Sun, 09 Feb 2025) EndedAt: 2025-02-09 22:07:47 -0500 (Sun, 09 Feb 2025) EllapsedTime: 5.1 seconds RetCode: 0 Status: OK PackageFile: BiRewire_3.39.0.tgz PackageFileSize: 739.4 KiB