Package: BiRewire Version: 3.39.0 Command: /Library/Frameworks/R.framework/Resources/bin/R CMD build --keep-empty-dirs --no-resave-data BiRewire StartedAt: 2025-02-09 15:43:19 -0500 (Sun, 09 Feb 2025) EndedAt: 2025-02-09 15:43:42 -0500 (Sun, 09 Feb 2025) EllapsedTime: 23.2 seconds RetCode: 0 Status: OK PackageFile: BiRewire_3.39.0.tar.gz PackageFileSize: 726.2 KiB