Package: BiRewire Version: 3.39.0 Command: /Library/Frameworks/R.framework/Resources/bin/R CMD check --install=check:BiRewire.install-out.txt --library=/Library/Frameworks/R.framework/Resources/library --no-vignettes --timings BiRewire_3.39.0.tar.gz StartedAt: 2025-02-09 18:18:25 -0500 (Sun, 09 Feb 2025) EndedAt: 2025-02-09 18:19:29 -0500 (Sun, 09 Feb 2025) EllapsedTime: 64.3 seconds RetCode: 0 Status: WARNINGS CheckDir: BiRewire.Rcheck Warnings: 1